BEGIN:VCALENDAR
VERSION:2.0
PRODID:-//Hope Cancer Support Centre - ECPv6.15.20//NONSGML v1.0//EN
CALSCALE:GREGORIAN
METHOD:PUBLISH
X-WR-CALNAME:Hope Cancer Support Centre
X-ORIGINAL-URL:https://www.hopesupportcentre.ie
X-WR-CALDESC:Events for Hope Cancer Support Centre
REFRESH-INTERVAL;VALUE=DURATION:PT1H
X-Robots-Tag:noindex
X-PUBLISHED-TTL:PT1H
BEGIN:VTIMEZONE
TZID:Europe/Dublin
BEGIN:DAYLIGHT
TZOFFSETFROM:+0000
TZOFFSETTO:+0100
TZNAME:IST
DTSTART:20230326T010000
END:DAYLIGHT
BEGIN:STANDARD
TZOFFSETFROM:+0100
TZOFFSETTO:+0000
TZNAME:GMT
DTSTART:20231029T010000
END:STANDARD
BEGIN:DAYLIGHT
TZOFFSETFROM:+0000
TZOFFSETTO:+0100
TZNAME:IST
DTSTART:20240331T010000
END:DAYLIGHT
BEGIN:STANDARD
TZOFFSETFROM:+0100
TZOFFSETTO:+0000
TZNAME:GMT
DTSTART:20241027T010000
END:STANDARD
BEGIN:DAYLIGHT
TZOFFSETFROM:+0000
TZOFFSETTO:+0100
TZNAME:IST
DTSTART:20250330T010000
END:DAYLIGHT
BEGIN:STANDARD
TZOFFSETFROM:+0100
TZOFFSETTO:+0000
TZNAME:GMT
DTSTART:20251026T010000
END:STANDARD
END:VTIMEZONE
BEGIN:VEVENT
DTSTART;TZID=Europe/Dublin:20240402T110000
DTEND;TZID=Europe/Dublin:20240402T130000
DTSTAMP:20260425T203141
CREATED:20240417T132108Z
LAST-MODIFIED:20240417T132108Z
UID:4227-1712055600-1712062800@www.hopesupportcentre.ie
SUMMARY:Art & Drawing Programme (WEEK 3)
DESCRIPTION:Art & Drawing Programme Week 3 of 8 If you would like to register for the next art group please contact reception on 053-9238555 or Email us on info@hopesupportcentre.ie
URL:https://www.hopesupportcentre.ie/event/art-drawing-programme-week-3-2/
CATEGORIES:Services Events
ATTACH;FMTTYPE=image/png:https://www.hopesupportcentre.ie/wp-content/uploads/2023/08/Art-Drawing-Programme-e1693478859582.png
END:VEVENT
BEGIN:VEVENT
DTSTART;TZID=Europe/Dublin:20240403T140000
DTEND;TZID=Europe/Dublin:20240403T160000
DTSTAMP:20260425T203141
CREATED:20240417T132434Z
LAST-MODIFIED:20240417T132434Z
UID:4231-1712152800-1712160000@www.hopesupportcentre.ie
SUMMARY:Monthly Art Support Group
DESCRIPTION:April Monthly Art Support Group If you would like to learn more please contact reception on 053-9238555 or Email us on info@hopesupportcentre.ie
URL:https://www.hopesupportcentre.ie/event/monthly-art-support-group-3/
CATEGORIES:Services Events
ATTACH;FMTTYPE=image/png:https://www.hopesupportcentre.ie/wp-content/uploads/2023/08/Monthly-Art-Support-Group-e1693488861768.png
END:VEVENT
BEGIN:VEVENT
DTSTART;TZID=Europe/Dublin:20240404T110000
DTEND;TZID=Europe/Dublin:20240404T130000
DTSTAMP:20260425T203141
CREATED:20240417T132848Z
LAST-MODIFIED:20240417T132848Z
UID:4235-1712228400-1712235600@www.hopesupportcentre.ie
SUMMARY:Men’s Cancer Support Group (Week 3)
DESCRIPTION:Men’s Cancer Support Group \nis for a group of men who are on a similar journey \, where experiences are shared \, and support offered to each other. \n  \nThe group meets weekly from the 21st March from 11am for two hours over a cuppa and is facilitator led. \n  \nStart Date and Time: Thursday 21st March 2024 \nDuration: 6 Weeks \nFacilitator: Denis O’Connor \nTo Register: Call into Reception or Call us at 053-9238555 \nOr email us on info@hopesupportcentre.ie \n 
URL:https://www.hopesupportcentre.ie/event/mens-cancer-support-group-week-3/
CATEGORIES:Services Events
ATTACH;FMTTYPE=image/png:https://www.hopesupportcentre.ie/wp-content/uploads/2024/03/Mens-Cancer-Support-Group-e1710853327951.png
END:VEVENT
BEGIN:VEVENT
DTSTART;TZID=Europe/Dublin:20240405T093000
DTEND;TZID=Europe/Dublin:20240405T123000
DTSTAMP:20260425T203141
CREATED:20240229T095825Z
LAST-MODIFIED:20240229T095825Z
UID:4172-1712309400-1712320200@www.hopesupportcentre.ie
SUMMARY:Murrintown Coffee Morning
DESCRIPTION:Coffee Morning been held in Murrintown Community Centre \, in aid of the Hope Cancer Support Centre. \n  \nCoffee/Tea/Cake Sale and Raffle\n  \nMurrintown Community Centre \nFriday 5th April 2024 \n9.30am – 12.30pm \n 
URL:https://www.hopesupportcentre.ie/event/murrintown-coffee-morning/
CATEGORIES:Fundraising Events
ATTACH;FMTTYPE=image/png:https://www.hopesupportcentre.ie/wp-content/uploads/2024/02/Coffee-Morning-Dinah-e1709200648775.png
END:VEVENT
BEGIN:VEVENT
DTSTART;VALUE=DATE:20240407
DTEND;VALUE=DATE:20240408
DTSTAMP:20260425T203141
CREATED:20240214T090028Z
LAST-MODIFIED:20240214T104226Z
UID:4153-1712448000-1712534399@www.hopesupportcentre.ie
SUMMARY:Hope and Dream 10\, 2024
DESCRIPTION:This year’s Hope and Dream 10\, 2024 will be held on Sunday 7th April 2024. We look forward to your participation!\nSimilar to last year\, the proceeds will again go to supporting our services for clients. These include support worker assessment and support\, counselling\, reflexology\, massage\, lymphoedema treatment \, bra and prosthesis fitting along with all our support groups and programmes. We are in the process of redeveloping the Centre and incorporating the new premises into the old. It is important to note that a completely separate funding stream will be utilised to fund the development and no Hope and Dream 10 proceeds will be used for this development. \nWe are delighted to offer the choice of a virtual event again this year along with the option of 10 km and 10 mile. This does however create an additional administrative challenge and we would ask that you please read our FAQ section before you participate in the event. \nHope and Dream 10 continues to be a major event in the South East. The money raised over the past 12 years has made a huge difference to the quality of life for hundreds of people across County Wexford. We hope that each participant will raise as much money as possible for the Hope Cancer Support Centre. \nSo please\, do the best you can…if we do nothing….nothing will happen. \n  \nRegister here at www.hopeanddream10.com\n  \n \n 
URL:https://www.hopesupportcentre.ie/event/hope-and-dream-10-2024/
CATEGORIES:Fundraising Events
ATTACH;FMTTYPE=image/jpeg:https://www.hopesupportcentre.ie/wp-content/uploads/2024/02/Poster-1.jpg
END:VEVENT
BEGIN:VEVENT
DTSTART;TZID=Europe/Dublin:20240409T110000
DTEND;TZID=Europe/Dublin:20240409T130000
DTSTAMP:20260425T203141
CREATED:20240417T133008Z
LAST-MODIFIED:20240417T133444Z
UID:4237-1712660400-1712667600@www.hopesupportcentre.ie
SUMMARY:Art & Drawing Programme (WEEK 4)
DESCRIPTION:Art & Drawing Programme Week 4 of 8 If you would like to register for the next art group please contact reception on 053-9238555 or Email us on info@hopesupportcentre.ie
URL:https://www.hopesupportcentre.ie/event/art-drawing-programme-week-4-2/
CATEGORIES:Services Events
ATTACH;FMTTYPE=image/png:https://www.hopesupportcentre.ie/wp-content/uploads/2023/08/Art-Drawing-Programme-e1693478859582.png
END:VEVENT
BEGIN:VEVENT
DTSTART;TZID=Europe/Dublin:20240411T110000
DTEND;TZID=Europe/Dublin:20240411T130000
DTSTAMP:20260425T203141
CREATED:20240417T133247Z
LAST-MODIFIED:20240417T133247Z
UID:4239-1712833200-1712840400@www.hopesupportcentre.ie
SUMMARY:Men’s Cancer Support Group (Week 4)
DESCRIPTION:Men’s Cancer Support Group \nis for a group of men who are on a similar journey \, where experiences are shared \, and support offered to each other. \n  \nThe group meets weekly from the 21st March from 11am for two hours over a cuppa and is facilitator led. \n  \nStart Date and Time: Thursday 21st March 2024 \nDuration: 6 Weeks \nFacilitator: Denis O’Connor \nTo Register: Call into Reception or Call us at 053-9238555 \nOr email us on info@hopesupportcentre.ie \n 
URL:https://www.hopesupportcentre.ie/event/mens-cancer-support-group-week-4/
CATEGORIES:Services Events
ATTACH;FMTTYPE=image/png:https://www.hopesupportcentre.ie/wp-content/uploads/2024/03/Mens-Cancer-Support-Group-e1710853327951.png
END:VEVENT
BEGIN:VEVENT
DTSTART;TZID=Europe/Dublin:20240412T103000
DTEND;TZID=Europe/Dublin:20240412T123000
DTSTAMP:20260425T203141
CREATED:20240417T132314Z
LAST-MODIFIED:20240417T132314Z
UID:4229-1712917800-1712925000@www.hopesupportcentre.ie
SUMMARY:Multiple Myeloma Support Group
DESCRIPTION:Held on the first Friday \nof Every Month \n10.30am -12pm \n  \nThe Multiple Myeloma Support Group Meetings gives you the opportunity to meet other people who are living with Multiple Myeloma and to share information over a cuppa in a supportive environment. \n  \nFor more information or to Register for the programme please phone the Centre on 0539238555 or email us on info@hopesupportcentre.ie \n 
URL:https://www.hopesupportcentre.ie/event/multiple-myeloma-support-group-10/
CATEGORIES:Services Events
ATTACH;FMTTYPE=image/png:https://www.hopesupportcentre.ie/wp-content/uploads/2023/08/Wexford-Multiple-Myeloma-Support-Group-Meetings-A3-Document-e1693478699221.png
END:VEVENT
BEGIN:VEVENT
DTSTART;TZID=Europe/Dublin:20240416T110000
DTEND;TZID=Europe/Dublin:20240416T130000
DTSTAMP:20260425T203141
CREATED:20240417T133413Z
LAST-MODIFIED:20240417T133413Z
UID:4241-1713265200-1713272400@www.hopesupportcentre.ie
SUMMARY:Art & Drawing Programme (WEEK 5)
DESCRIPTION:Art & Drawing Programme Week 5 of 8 If you would like to register for the next art group please contact reception on 053-9238555 or Email us on info@hopesupportcentre.ie
URL:https://www.hopesupportcentre.ie/event/art-drawing-programme-week-5-2/
CATEGORIES:Services Events
ATTACH;FMTTYPE=image/png:https://www.hopesupportcentre.ie/wp-content/uploads/2023/08/Art-Drawing-Programme-e1693478859582.png
END:VEVENT
BEGIN:VEVENT
DTSTART;TZID=Europe/Dublin:20240417T110000
DTEND;TZID=Europe/Dublin:20240417T130000
DTSTAMP:20260425T203141
CREATED:20240417T132619Z
LAST-MODIFIED:20240417T132619Z
UID:4233-1713351600-1713358800@www.hopesupportcentre.ie
SUMMARY:Men’s Peer Support Group
DESCRIPTION:Men’s Peer Support Coffee Morning   If you would like to learn more please contact reception on 053-9238555 or Email us on info@hopesupportcentre.ie
URL:https://www.hopesupportcentre.ie/event/mens-peer-support-group/
CATEGORIES:Services Events
ATTACH;FMTTYPE=image/png:https://www.hopesupportcentre.ie/wp-content/uploads/2023/08/Mens-peer-Coffee-Morning-e1693478499292.png
END:VEVENT
BEGIN:VEVENT
DTSTART;TZID=Europe/Dublin:20240418T110000
DTEND;TZID=Europe/Dublin:20240418T120000
DTSTAMP:20260425T203141
CREATED:20240417T142559Z
LAST-MODIFIED:20240417T142628Z
UID:4255-1713438000-1713441600@www.hopesupportcentre.ie
SUMMARY:Mindfulness Meditation Programme
DESCRIPTION:This Six-Week Programme aims to help you develop skillful ways of dealing with difficulty and improve your quality of life. \n  \nThrough mindfulness-based interventions\, we explore and learn how: \n  \n\nMindfulness can support you in becoming more present\nDevelop Kinder and Self-Compassionate ways to meet Challenges\nDiscover a new way of being with reality.\n\nContact reception on 053-9238555 for more information \n 
URL:https://www.hopesupportcentre.ie/event/mindfulness-meditation-programme/
CATEGORIES:Services Events
ATTACH;FMTTYPE=image/png:https://www.hopesupportcentre.ie/wp-content/uploads/2024/04/6-week-Mindfulness-Flyer-002-e1723118514602.png
END:VEVENT
BEGIN:VEVENT
DTSTART;TZID=Europe/Dublin:20240418T110000
DTEND;TZID=Europe/Dublin:20240418T130000
DTSTAMP:20260425T203141
CREATED:20240417T133818Z
LAST-MODIFIED:20240417T133818Z
UID:4243-1713438000-1713445200@www.hopesupportcentre.ie
SUMMARY:Men’s Cancer Support Group (Week 5)
DESCRIPTION:Men’s Cancer Support Group \nis for a group of men who are on a similar journey \, where experiences are shared \, and support offered to each other. \n  \nThe group meets weekly from the 21st March from 11am for two hours over a cuppa and is facilitator led. \n  \nStart Date and Time: Thursday 21st March 2024 \nDuration: 6 Weeks \nFacilitator: Denis O’Connor \nTo Register: Call into Reception or Call us at 053-9238555 \nOr email us on info@hopesupportcentre.ie
URL:https://www.hopesupportcentre.ie/event/mens-cancer-support-group-week-5/
CATEGORIES:Services Events
ATTACH;FMTTYPE=image/png:https://www.hopesupportcentre.ie/wp-content/uploads/2024/03/Mens-Cancer-Support-Group-e1710853327951.png
END:VEVENT
BEGIN:VEVENT
DTSTART;TZID=Europe/Dublin:20240423T103000
DTEND;TZID=Europe/Dublin:20240423T120000
DTSTAMP:20260425T203141
CREATED:20240417T134107Z
LAST-MODIFIED:20240417T134107Z
UID:4249-1713868200-1713873600@www.hopesupportcentre.ie
SUMMARY:Breast Cancer Support Group
DESCRIPTION:Our Breast Cancer Support Group is a group which offers clients the opportunity to meet others affected by a Breast Cancer diagnosis. \n  \nIt allows an opportunity to share experiences whilst gaining new information from the meetings\, occasional guest speakers and each other\, alongside the support of being part of a group. \n  \nIf you are interested in joining\, or would like further information\, please either register at Reception\, or phone us on 0539238555 or email us at info@hopesupportcentre.ie
URL:https://www.hopesupportcentre.ie/event/breast-cancer-support-group-5/
CATEGORIES:Services Events
ATTACH;FMTTYPE=image/png:https://www.hopesupportcentre.ie/wp-content/uploads/2024/02/6-e1707230369145.png
END:VEVENT
BEGIN:VEVENT
DTSTART;TZID=Europe/Dublin:20240423T110000
DTEND;TZID=Europe/Dublin:20240423T130000
DTSTAMP:20260425T203141
CREATED:20240417T133937Z
LAST-MODIFIED:20240417T133937Z
UID:4247-1713870000-1713877200@www.hopesupportcentre.ie
SUMMARY:Art & Drawing Programme (WEEK 6)
DESCRIPTION:Art & Drawing Programme Week 6 of 8 If you would like to register for the next art group please contact reception on 053-9238555 or Email us on info@hopesupportcentre.ie
URL:https://www.hopesupportcentre.ie/event/art-drawing-programme-week-6-3/
CATEGORIES:Services Events
ATTACH;FMTTYPE=image/png:https://www.hopesupportcentre.ie/wp-content/uploads/2023/08/Art-Drawing-Programme-e1693478859582.png
END:VEVENT
BEGIN:VEVENT
DTSTART;TZID=Europe/Dublin:20240425T110000
DTEND;TZID=Europe/Dublin:20240425T120000
DTSTAMP:20260425T203141
CREATED:20240417T142753Z
LAST-MODIFIED:20240417T142753Z
UID:4259-1714042800-1714046400@www.hopesupportcentre.ie
SUMMARY:Mindfulness Meditation Programme (Week 2)
DESCRIPTION:This Six-Week Programme aims to help you develop skillful ways of dealing with difficulty and improve your quality of life. \n  \nThrough mindfulness-based interventions\, we explore and learn how: \n  \n\nMindfulness can support you in becoming more present\nDevelop Kinder and Self-Compassionate ways to meet Challenges\nDiscover a new way of being with reality.\n\nContact reception on 053-9238555 for more information \n 
URL:https://www.hopesupportcentre.ie/event/mindfulness-meditation-programme-week-2/
CATEGORIES:Services Events
ATTACH;FMTTYPE=image/png:https://www.hopesupportcentre.ie/wp-content/uploads/2024/04/6-week-Mindfulness-Flyer-002-e1723118514602.png
END:VEVENT
BEGIN:VEVENT
DTSTART;TZID=Europe/Dublin:20240425T110000
DTEND;TZID=Europe/Dublin:20240425T130000
DTSTAMP:20260425T203141
CREATED:20240417T134308Z
LAST-MODIFIED:20240417T134308Z
UID:4251-1714042800-1714050000@www.hopesupportcentre.ie
SUMMARY:Men’s Cancer Support Group (Week 6)
DESCRIPTION:Men’s Cancer Support Group \nis for a group of men who are on a similar journey \, where experiences are shared \, and support offered to each other. \n  \nThe group meets weekly from the 21st March from 11am for two hours over a cuppa and is facilitator led. \n  \nStart Date and Time: Thursday 21st March 2024 \nDuration: 6 Weeks \nFacilitator: Denis O’Connor \nTo Register: Call into Reception or Call us at 053-9238555 \nOr email us on info@hopesupportcentre.ie
URL:https://www.hopesupportcentre.ie/event/mens-cancer-support-group-week-6/
CATEGORIES:Services Events
ATTACH;FMTTYPE=image/png:https://www.hopesupportcentre.ie/wp-content/uploads/2024/03/Mens-Cancer-Support-Group-e1710853327951.png
END:VEVENT
BEGIN:VEVENT
DTSTART;TZID=Europe/Dublin:20240426T100000
DTEND;TZID=Europe/Dublin:20240426T120000
DTSTAMP:20260425T203141
CREATED:20240417T143812Z
LAST-MODIFIED:20240417T144149Z
UID:4261-1714125600-1714132800@www.hopesupportcentre.ie
SUMMARY:Camolin National School Bake Sale
DESCRIPTION:Camolin National School Bake Sale \n  \n26th April 2024 \n10am
URL:https://www.hopesupportcentre.ie/event/camolin-national-school-bake-sale/
CATEGORIES:Fundraising Events
ATTACH;FMTTYPE=image/png:https://www.hopesupportcentre.ie/wp-content/uploads/2024/04/Coffee-Mornign--e1713364672620.png
END:VEVENT
BEGIN:VEVENT
DTSTART;TZID=Europe/Dublin:20240427T140000
DTEND;TZID=Europe/Dublin:20240427T160000
DTSTAMP:20260425T203141
CREATED:20240417T144109Z
LAST-MODIFIED:20240417T144109Z
UID:4264-1714226400-1714233600@www.hopesupportcentre.ie
SUMMARY:Bake Sale Fundraiser in aid of Hope Cancer Support Centre
DESCRIPTION:A bake sale will be held in the local community hall for members of the community. All will be welcome to attend\, buy some baked goods and/or make a donation. Chairs and tables will be set out and teas and coffees will be available. Members of the youth club will be volunteering on the day. A representative from the Hope Centre is also welcome to share information about the charity \n  \n 
URL:https://www.hopesupportcentre.ie/event/bake-sale-fundraiser-in-aid-of-hope-cancer-support-centre/
CATEGORIES:Fundraising Events
ATTACH;FMTTYPE=image/png:https://www.hopesupportcentre.ie/wp-content/uploads/2024/04/Screenshot-2024-04-17-154035.png
END:VEVENT
BEGIN:VEVENT
DTSTART;TZID=Europe/Dublin:20240430T110000
DTEND;TZID=Europe/Dublin:20240430T130000
DTSTAMP:20260425T203141
CREATED:20240417T134459Z
LAST-MODIFIED:20240417T134459Z
UID:4253-1714474800-1714482000@www.hopesupportcentre.ie
SUMMARY:Art & Drawing Programme (WEEK 7)
DESCRIPTION:Art & Drawing Programme Week 7 of 8 If you would like to register for the next art group please contact reception on 053-9238555 or Email us on info@hopesupportcentre.ie
URL:https://www.hopesupportcentre.ie/event/art-drawing-programme-week-7/
CATEGORIES:Services Events
ATTACH;FMTTYPE=image/png:https://www.hopesupportcentre.ie/wp-content/uploads/2023/08/Art-Drawing-Programme-e1693478859582.png
END:VEVENT
END:VCALENDAR