BEGIN:VCALENDAR
VERSION:2.0
PRODID:-//Hope Cancer Support Centre - ECPv6.15.20//NONSGML v1.0//EN
CALSCALE:GREGORIAN
METHOD:PUBLISH
X-WR-CALNAME:Hope Cancer Support Centre
X-ORIGINAL-URL:https://www.hopesupportcentre.ie
X-WR-CALDESC:Events for Hope Cancer Support Centre
REFRESH-INTERVAL;VALUE=DURATION:PT1H
X-Robots-Tag:noindex
X-PUBLISHED-TTL:PT1H
BEGIN:VTIMEZONE
TZID:Europe/Dublin
BEGIN:DAYLIGHT
TZOFFSETFROM:+0000
TZOFFSETTO:+0100
TZNAME:IST
DTSTART:20230326T010000
END:DAYLIGHT
BEGIN:STANDARD
TZOFFSETFROM:+0100
TZOFFSETTO:+0000
TZNAME:GMT
DTSTART:20231029T010000
END:STANDARD
BEGIN:DAYLIGHT
TZOFFSETFROM:+0000
TZOFFSETTO:+0100
TZNAME:IST
DTSTART:20240331T010000
END:DAYLIGHT
BEGIN:STANDARD
TZOFFSETFROM:+0100
TZOFFSETTO:+0000
TZNAME:GMT
DTSTART:20241027T010000
END:STANDARD
BEGIN:DAYLIGHT
TZOFFSETFROM:+0000
TZOFFSETTO:+0100
TZNAME:IST
DTSTART:20250330T010000
END:DAYLIGHT
BEGIN:STANDARD
TZOFFSETFROM:+0100
TZOFFSETTO:+0000
TZNAME:GMT
DTSTART:20251026T010000
END:STANDARD
END:VTIMEZONE
BEGIN:VEVENT
DTSTART;TZID=Europe/Dublin:20240501T100000
DTEND;TZID=Europe/Dublin:20240501T170000
DTSTAMP:20260425T192205
CREATED:20240229T094659Z
LAST-MODIFIED:20240229T094701Z
UID:4166-1714557600-1714582800@www.hopesupportcentre.ie
SUMMARY:Grant's Pharmacy Coffee Morning
DESCRIPTION:Coffee Morning held in our store on Rafter Street Enniscorthy with seating area. \nBaked goods and a raffle of spot prizes. \n  \nGrant’s Pharmacy Coffee Morning \nRafter Street  \nEnniscorthy  \nCo.Wexford \nStarts at 10am 
URL:https://www.hopesupportcentre.ie/event/grants-pharmacy-coffee-morning/
LOCATION:Grants Pharmacy\, Rafter Street\, Enniscorthy\, Wexford\, Ireland
CATEGORIES:Fundraising Events
ATTACH;FMTTYPE=image/png:https://www.hopesupportcentre.ie/wp-content/uploads/2024/02/Grants-Coffee-Morning-e1709199800231.png
END:VEVENT
BEGIN:VEVENT
DTSTART;TZID=Europe/Dublin:20240502T110000
DTEND;TZID=Europe/Dublin:20240502T120000
DTSTAMP:20260425T192205
CREATED:20240507T081618Z
LAST-MODIFIED:20240507T081618Z
UID:4277-1714647600-1714651200@www.hopesupportcentre.ie
SUMMARY:Mindfulness Meditation Programme (Week 3)
DESCRIPTION:his Six-Week Programme aims to help you develop skillful ways of dealing with difficulty and improve your quality of life. \n  \nThrough mindfulness-based interventions\, we explore and learn how: \n  \n\nMindfulness can support you in becoming more present\nDevelop Kinder and Self-Compassionate ways to meet Challenges\nDiscover a new way of being with reality.\n\n  \nContact reception on 053-9238555 for more information
URL:https://www.hopesupportcentre.ie/event/mindfulness-meditation-programme-week-3/
CATEGORIES:Services Events
ATTACH;FMTTYPE=image/png:https://www.hopesupportcentre.ie/wp-content/uploads/2024/04/6-week-Mindfulness-Flyer-002-e1723118514602.png
END:VEVENT
BEGIN:VEVENT
DTSTART;TZID=Europe/Dublin:20240502T110000
DTEND;TZID=Europe/Dublin:20240502T130000
DTSTAMP:20260425T192205
CREATED:20240507T082026Z
LAST-MODIFIED:20240507T082026Z
UID:4279-1714647600-1714654800@www.hopesupportcentre.ie
SUMMARY:Look Good Feel Better Workshop
DESCRIPTION:We are delighted to inform you that a volunteer skin care & make-up artist from the “Look Good Feel Better” charity organisation will be holding a workshop: \n  \nHeld: The Hope Cancer Support Centre \nWhen: Look Good Feel Better Workshop \nTime: 11am –1pm \n  \nFinding out you have cancer can be daunting and life-changing and the added stress of the appearance-related side effects of treatment can be demoralising and very hard to cope with. This can have serious consequences on self-esteem and confidence at a time when a positive attitude is very important. \nOur vision is that the Look Good Feel Better programme be an integral part of cancer care in Ireland supporting people with cancer. \nOur mission is to help improve the well-being and confidence of women undergoing treatment for any type of cancer. We do this by providing free Look Good Feel Better workshops and advice to help manage the visible side effects caused by cancer and its treatment. \nCancer can rob a woman of her energy and strength but with the support of Look Good Feel Better it need not take away her self-confidence \n  \nIf you would like to register for the workshop \nplease contact Reception on 0539238555 \nEmail us at info@hopesupportcentre.ie \nWant more information regarding Look Good Feel Better \, please Click on this link: https://lookgoodfeelbetter.ie/ \n 
URL:https://www.hopesupportcentre.ie/event/look-good-feel-better-workshop-3/
CATEGORIES:Services Events
ATTACH;FMTTYPE=image/jpeg:https://www.hopesupportcentre.ie/wp-content/uploads/2023/08/285709553_379730910852540_6639537103357738409_n.jpg
END:VEVENT
BEGIN:VEVENT
DTSTART;TZID=Europe/Dublin:20240503T103000
DTEND;TZID=Europe/Dublin:20240503T123000
DTSTAMP:20260425T192205
CREATED:20240507T082332Z
LAST-MODIFIED:20240507T082332Z
UID:4281-1714732200-1714739400@www.hopesupportcentre.ie
SUMMARY:Multiple Myeloma Support Group
DESCRIPTION:Held on the first Friday \nof Every Month \n10.30am -12pm \n  \nThe Multiple Myeloma Support Group Meetings gives you the opportunity to meet other people who are living with Multiple Myeloma and to share information over a cuppa in a supportive environment. \n  \nFor more information or to Register for the programme please phone the Centre on 0539238555 or email us on info@hopesupportcentre.ie \n 
URL:https://www.hopesupportcentre.ie/event/multiple-myeloma-support-group-11/
CATEGORIES:Services Events
ATTACH;FMTTYPE=image/png:https://www.hopesupportcentre.ie/wp-content/uploads/2023/08/Wexford-Multiple-Myeloma-Support-Group-Meetings-A3-Document-e1693478699221.png
END:VEVENT
BEGIN:VEVENT
DTSTART;TZID=Europe/Dublin:20240505T110000
DTEND;TZID=Europe/Dublin:20240505T170000
DTSTAMP:20260425T192205
CREATED:20240417T144541Z
LAST-MODIFIED:20240417T144541Z
UID:4269-1714906800-1714928400@www.hopesupportcentre.ie
SUMMARY:Jack Morris Memorial Fundraiser
DESCRIPTION:Coffee Morning \, Matches \, Walk \, Skittles and Raffle \n  \nLocation: St Patrick’s GAA \n  \n 
URL:https://www.hopesupportcentre.ie/event/jack-morris-memorial-fundraiser/
CATEGORIES:Fundraising Events
ATTACH;FMTTYPE=image/jpeg:https://www.hopesupportcentre.ie/wp-content/uploads/2024/04/Jack-Morris-Fundraiser-Poster-e1713365112839.jpg
END:VEVENT
BEGIN:VEVENT
DTSTART;TZID=Europe/Dublin:20240507T110000
DTEND;TZID=Europe/Dublin:20240507T130000
DTSTAMP:20260425T192205
CREATED:20240507T083340Z
LAST-MODIFIED:20240507T083340Z
UID:4283-1715079600-1715086800@www.hopesupportcentre.ie
SUMMARY:Art & Drawing Programme (Week 8)
DESCRIPTION:Art & Drawing Programme \n  \nStarting the Tuesday 19th March for 8 Weeks \n2pm – 4pm \n  \nSee Poster for Information. \nTo register please contact reception on 053-9238555 or Email us on info@hopesupportcentre.ie
URL:https://www.hopesupportcentre.ie/event/art-drawing-programme-week-8/
CATEGORIES:Services Events
ATTACH;FMTTYPE=image/png:https://www.hopesupportcentre.ie/wp-content/uploads/2024/03/Art-Groups-e1710852375670.png
END:VEVENT
BEGIN:VEVENT
DTSTART;TZID=Europe/Dublin:20240508T140000
DTEND;TZID=Europe/Dublin:20240508T160000
DTSTAMP:20260425T192205
CREATED:20240507T083820Z
LAST-MODIFIED:20240507T083820Z
UID:4285-1715176800-1715184000@www.hopesupportcentre.ie
SUMMARY:Monthly Art Support Group
DESCRIPTION:May Monthly Art Support Group \n  \nIf you would like to learn more please contact reception on 053-9238555 or Email us on info@hopesupportcentre.ie
URL:https://www.hopesupportcentre.ie/event/monthly-art-support-group-4/
CATEGORIES:Services Events
ATTACH;FMTTYPE=image/png:https://www.hopesupportcentre.ie/wp-content/uploads/2023/08/Monthly-Art-Support-Group-e1693488861768.png
END:VEVENT
BEGIN:VEVENT
DTSTART;TZID=Europe/Dublin:20240509T110000
DTEND;TZID=Europe/Dublin:20240509T120000
DTSTAMP:20260425T192205
CREATED:20240507T084540Z
LAST-MODIFIED:20240507T084540Z
UID:4287-1715252400-1715256000@www.hopesupportcentre.ie
SUMMARY:Mindfulness Meditation Programme ( Week 4
DESCRIPTION:his Six-Week Programme aims to help you develop skillful ways of dealing with difficulty and improve your quality of life. \n  \nThrough mindfulness-based interventions\, we explore and learn how: \n  \n\nMindfulness can support you in becoming more present\nDevelop Kinder and Self-Compassionate ways to meet Challenges\nDiscover a new way of being with reality.\n\nContact reception on 053-9238555 for more information
URL:https://www.hopesupportcentre.ie/event/mindfulness-meditation-programme-week-4/
CATEGORIES:Services Events
ATTACH;FMTTYPE=image/png:https://www.hopesupportcentre.ie/wp-content/uploads/2024/04/6-week-Mindfulness-Flyer-002-e1723118514602.png
END:VEVENT
BEGIN:VEVENT
DTSTART;TZID=Europe/Dublin:20240514T173000
DTEND;TZID=Europe/Dublin:20240514T183000
DTSTAMP:20260425T192205
CREATED:20240507T091645Z
LAST-MODIFIED:20240507T091645Z
UID:4289-1715707800-1715711400@www.hopesupportcentre.ie
SUMMARY:CLIMB (Children's Lives Include Moments of Bravery)
DESCRIPTION:CLIMB (Children’s Lives Include Moments of Bravery)\n  \nA Support Programme dedicated to helping children cope with a parent’s cancer diagnosis \n  \nWho is CLIMB for? \nChildren aged 5-12 years who are experiencing the impact of a parents cancer diagnosis. \n  \nWhat is Involved? \nThe CLIMB Programme is carried out over six sessions by trained healthcare professionals. \nThe programme aims to strengthen children’s ability to cope with the feelings associated with their parents illness and it uses therapeutic art and play exercises to enable children to express their feelings. \n  \nFor more information please call the centre on 053-9238555 or email us at info@hopesupportcentre.ie  \n 
URL:https://www.hopesupportcentre.ie/event/climb-childrens-lives-include-moments-of-bravery/
CATEGORIES:Services Events
ATTACH;FMTTYPE=image/png:https://www.hopesupportcentre.ie/wp-content/uploads/2024/05/5-e1715073357199.png
END:VEVENT
BEGIN:VEVENT
DTSTART;TZID=Europe/Dublin:20240515T110000
DTEND;TZID=Europe/Dublin:20240515T130000
DTSTAMP:20260425T192205
CREATED:20240507T092517Z
LAST-MODIFIED:20240507T092537Z
UID:4294-1715770800-1715778000@www.hopesupportcentre.ie
SUMMARY:Men’s Peer Support Group
DESCRIPTION:Men’s Peer Support Coffee Morning \n  \nIf you would like to learn more please contact reception on 053-9238555 or Email us on info@hopesupportcentre.ie
URL:https://www.hopesupportcentre.ie/event/mens-peer-support-group-2/
CATEGORIES:Services Events
ATTACH;FMTTYPE=image/png:https://www.hopesupportcentre.ie/wp-content/uploads/2023/08/Mens-peer-Coffee-Morning-e1693478499292.png
END:VEVENT
BEGIN:VEVENT
DTSTART;TZID=Europe/Dublin:20240516T110000
DTEND;TZID=Europe/Dublin:20240516T120000
DTSTAMP:20260425T192205
CREATED:20240507T092722Z
LAST-MODIFIED:20240507T092741Z
UID:4296-1715857200-1715860800@www.hopesupportcentre.ie
SUMMARY:Mindfulness Meditation Programme ( Week 5 )
DESCRIPTION:This Six-Week Programme aims to help you develop skillful ways of dealing with difficulty and improve your quality of life. \n  \nThrough mindfulness-based interventions\, we explore and learn how: \n  \n\nMindfulness can support you in becoming more present\nDevelop Kinder and Self-Compassionate ways to meet Challenges\nDiscover a new way of being with reality.\n\nContact reception on 053-9238555 for more information
URL:https://www.hopesupportcentre.ie/event/mindfulness-meditation-programme-2/
CATEGORIES:Services Events
ATTACH;FMTTYPE=image/png:https://www.hopesupportcentre.ie/wp-content/uploads/2024/04/6-week-Mindfulness-Flyer-002-e1723118514602.png
END:VEVENT
BEGIN:VEVENT
DTSTART;TZID=Europe/Dublin:20240521T173000
DTEND;TZID=Europe/Dublin:20240521T183000
DTSTAMP:20260425T192205
CREATED:20240507T095313Z
LAST-MODIFIED:20240507T095313Z
UID:4299-1716312600-1716316200@www.hopesupportcentre.ie
SUMMARY:CLIMB (Children’s Lives Include Moments of Bravery)
DESCRIPTION:CLIMB (Children’s Lives Include Moments of Bravery)\n  \nA Support Programme dedicated to helping children cope with a parent’s cancer diagnosis \n  \nWho is CLIMB for? \nChildren aged 5-12 years who are experiencing the impact of a parents cancer diagnosis. \n  \nWhat is Involved? \nThe CLIMB Programme is carried out over six sessions by trained healthcare professionals. \nThe programme aims to strengthen children’s ability to cope with the feelings associated with their parents illness and it uses therapeutic art and play exercises to enable children to express their feelings. \n  \nFor more information please call the centre on 053-9238555 or email us at info@hopesupportcentre.ie  \n 
URL:https://www.hopesupportcentre.ie/event/climb-childrens-lives-include-moments-of-bravery-2/
CATEGORIES:Services Events
ATTACH;FMTTYPE=image/png:https://www.hopesupportcentre.ie/wp-content/uploads/2024/05/5-e1715073357199.png
END:VEVENT
BEGIN:VEVENT
DTSTART;TZID=Europe/Dublin:20240523T110000
DTEND;TZID=Europe/Dublin:20240523T120000
DTSTAMP:20260425T192205
CREATED:20240507T095452Z
LAST-MODIFIED:20240507T095452Z
UID:4301-1716462000-1716465600@www.hopesupportcentre.ie
SUMMARY:Mindfulness Meditation Programme ( Week 6 )
DESCRIPTION:This Six-Week Programme aims to help you develop skillful ways of dealing with difficulty and improve your quality of life. \n  \nThrough mindfulness-based interventions\, we explore and learn how: \n  \n\nMindfulness can support you in becoming more present\nDevelop Kinder and Self-Compassionate ways to meet Challenges\nDiscover a new way of being with reality.\n\nContact reception on 053-9238555 for more information \n 
URL:https://www.hopesupportcentre.ie/event/mindfulness-meditation-programme-week-6/
CATEGORIES:Services Events
ATTACH;FMTTYPE=image/png:https://www.hopesupportcentre.ie/wp-content/uploads/2024/04/6-week-Mindfulness-Flyer-002-e1723118514602.png
END:VEVENT
BEGIN:VEVENT
DTSTART;TZID=Europe/Dublin:20240528T103000
DTEND;TZID=Europe/Dublin:20240528T120000
DTSTAMP:20260425T192205
CREATED:20240507T104220Z
LAST-MODIFIED:20240507T104220Z
UID:4303-1716892200-1716897600@www.hopesupportcentre.ie
SUMMARY:Breast Cancer Support Group with Colour me Beautiful Workshop
DESCRIPTION:Our Breast Cancer Support Group is a group which offers clients the opportunity to meet others affected by a Breast Cancer diagnosis. \n  \nIt allows an opportunity to share experiences whilst gaining new information from the meetings\, occasional guest speakers and each other\, alongside the support of being part of a group. \n  \nIf you are interested in joining\, or would like further information\, please either register at Reception\, or phone us on 0539238555 or email us at info@hopesupportcentre.ie
URL:https://www.hopesupportcentre.ie/event/breast-cancer-support-group-with-colour-me-beautiful-workshop/
CATEGORIES:Services Events
ATTACH;FMTTYPE=image/png:https://www.hopesupportcentre.ie/wp-content/uploads/2024/02/6-e1707230369145.png
END:VEVENT
BEGIN:VEVENT
DTSTART;TZID=Europe/Dublin:20240528T173000
DTEND;TZID=Europe/Dublin:20240528T183000
DTSTAMP:20260425T192205
CREATED:20240507T105038Z
LAST-MODIFIED:20240507T105038Z
UID:4305-1716917400-1716921000@www.hopesupportcentre.ie
SUMMARY:CLIMB (Children’s Lives Include Moments of Bravery)
DESCRIPTION:CLIMB (Children’s Lives Include Moments of Bravery)\n  \nA Support Programme dedicated to helping children cope with a parent’s cancer diagnosis \n  \nWho is CLIMB for? \nChildren aged 5-12 years who are experiencing the impact of a parents cancer diagnosis. \n  \nWhat is Involved? \nThe CLIMB Programme is carried out over six sessions by trained healthcare professionals. \nThe programme aims to strengthen children’s ability to cope with the feelings associated with their parents illness and it uses therapeutic art and play exercises to enable children to express their feelings. \n  \nFor more information please call the centre on 053-9238555 or email us at info@hopesupportcentre.ie 
URL:https://www.hopesupportcentre.ie/event/climb-childrens-lives-include-moments-of-bravery-3/
CATEGORIES:Services Events
ATTACH;FMTTYPE=image/png:https://www.hopesupportcentre.ie/wp-content/uploads/2024/05/5-e1715073357199.png
END:VEVENT
END:VCALENDAR