BEGIN:VCALENDAR
VERSION:2.0
PRODID:-//Hope Cancer Support Centre - ECPv6.15.20//NONSGML v1.0//EN
CALSCALE:GREGORIAN
METHOD:PUBLISH
X-ORIGINAL-URL:https://www.hopesupportcentre.ie
X-WR-CALDESC:Events for Hope Cancer Support Centre
REFRESH-INTERVAL;VALUE=DURATION:PT1H
X-Robots-Tag:noindex
X-PUBLISHED-TTL:PT1H
BEGIN:VTIMEZONE
TZID:Europe/Dublin
BEGIN:DAYLIGHT
TZOFFSETFROM:+0000
TZOFFSETTO:+0100
TZNAME:IST
DTSTART:20230326T010000
END:DAYLIGHT
BEGIN:STANDARD
TZOFFSETFROM:+0100
TZOFFSETTO:+0000
TZNAME:GMT
DTSTART:20231029T010000
END:STANDARD
BEGIN:DAYLIGHT
TZOFFSETFROM:+0000
TZOFFSETTO:+0100
TZNAME:IST
DTSTART:20240331T010000
END:DAYLIGHT
BEGIN:STANDARD
TZOFFSETFROM:+0100
TZOFFSETTO:+0000
TZNAME:GMT
DTSTART:20241027T010000
END:STANDARD
BEGIN:DAYLIGHT
TZOFFSETFROM:+0000
TZOFFSETTO:+0100
TZNAME:IST
DTSTART:20250330T010000
END:DAYLIGHT
BEGIN:STANDARD
TZOFFSETFROM:+0100
TZOFFSETTO:+0000
TZNAME:GMT
DTSTART:20251026T010000
END:STANDARD
END:VTIMEZONE
BEGIN:VEVENT
DTSTART;TZID=Europe/Dublin:20240701T143000
DTEND;TZID=Europe/Dublin:20240701T163000
DTSTAMP:20260425T163310
CREATED:20240704T093752Z
LAST-MODIFIED:20240704T093752Z
UID:4414-1719844200-1719851400@www.hopesupportcentre.ie
SUMMARY:Creative Writing Programme (Week 4)
DESCRIPTION:A taster introductory session is offered on Wednesday 12th June 2024 from 11am- 12pm. The course\, for those who then decide to take part\, will run thereafter on Monday afternoons from Monday 17th June from 2.30 to 4.30pm until the 29th July inclusive.\n 
URL:https://www.hopesupportcentre.ie/event/creative-writing-programme-week-4/
CATEGORIES:Services Events
ATTACH;FMTTYPE=image/png:https://www.hopesupportcentre.ie/wp-content/uploads/2024/05/Creative-Writing-2024-e1716800599319.png
END:VEVENT
BEGIN:VEVENT
DTSTART;TZID=Europe/Dublin:20240702T110000
DTEND;TZID=Europe/Dublin:20240702T130000
DTSTAMP:20260425T163310
CREATED:20240704T093936Z
LAST-MODIFIED:20240704T093936Z
UID:4416-1719918000-1719925200@www.hopesupportcentre.ie
SUMMARY:Art & Drawing Programme (Week 5)
DESCRIPTION:Art & Drawing Programme \n  \nStarting the Tuesday 4th June for 8 Weeks \n11am – 1pm \n  \nSee Poster for Information. \nTo register please contact reception on 053-9238555 or Email us on info@hopesupportcentre.ie
URL:https://www.hopesupportcentre.ie/event/art-drawing-programme-week-5-3/
CATEGORIES:Services Events
ATTACH;FMTTYPE=image/png:https://www.hopesupportcentre.ie/wp-content/uploads/2024/05/Art-Groups-e1716799566685.png
END:VEVENT
BEGIN:VEVENT
DTSTART;TZID=Europe/Dublin:20240702T173000
DTEND;TZID=Europe/Dublin:20240702T183000
DTSTAMP:20260425T163310
CREATED:20240704T094118Z
LAST-MODIFIED:20240704T094118Z
UID:4418-1719941400-1719945000@www.hopesupportcentre.ie
SUMMARY:CLIMB (Children’s Lives Include Moments of Bravery) (Week 6)
DESCRIPTION:A Support Programme dedicated to helping children cope with a parent’s cancer diagnosis \n  \nWho is CLIMB for? \nChildren aged 5-12 years who are experiencing the impact of a parents cancer diagnosis. \n  \nWhat is Involved? \nThe CLIMB Programme is carried out over six sessions by trained healthcare professionals. \nThe programme aims to strengthen children’s ability to cope with the feelings associated with their parents illness and it uses therapeutic art and play exercises to enable children to express their feelings. \n  \nFor more information please call the centre on 053-9238555 or email us at info@hopesupportcentre.ie  \n 
URL:https://www.hopesupportcentre.ie/event/climb-childrens-lives-include-moments-of-bravery-week-6-2/
CATEGORIES:Services Events
ATTACH;FMTTYPE=image/png:https://www.hopesupportcentre.ie/wp-content/uploads/2024/05/5-e1715073357199.png
END:VEVENT
BEGIN:VEVENT
DTSTART;TZID=Europe/Dublin:20240703T140000
DTEND;TZID=Europe/Dublin:20240703T160000
DTSTAMP:20260425T163310
CREATED:20240704T094454Z
LAST-MODIFIED:20240704T094454Z
UID:4420-1720015200-1720022400@www.hopesupportcentre.ie
SUMMARY:Monthly Art Support Group
DESCRIPTION:June Monthly Art Support Group \n  \nIf you would like to learn more please contact reception on 053-9238555 or Email us on info@hopesupportcentre.ie
URL:https://www.hopesupportcentre.ie/event/monthly-art-support-group-6/
CATEGORIES:Services Events
ATTACH;FMTTYPE=image/png:https://www.hopesupportcentre.ie/wp-content/uploads/2023/08/Monthly-Art-Support-Group-e1693488861768.png
END:VEVENT
BEGIN:VEVENT
DTSTART;TZID=Europe/Dublin:20240706T200000
DTEND;TZID=Europe/Dublin:20240706T233000
DTSTAMP:20260425T163310
CREATED:20240624T104309Z
LAST-MODIFIED:20240624T104309Z
UID:4405-1720296000-1720308600@www.hopesupportcentre.ie
SUMMARY:Raffle and Auction for Hope
DESCRIPTION:Raffle and Auction \n  \nIn Aid of the Hope Cancer Support Centre \nHeld in The Cloch Bán ffrenches \nSaturday 6th July – 8pm \n  \n 
URL:https://www.hopesupportcentre.ie/event/raffle-and-auction-for-hope/
CATEGORIES:Fundraising Events
ATTACH;FMTTYPE=image/jpeg:https://www.hopesupportcentre.ie/wp-content/uploads/2024/06/Come-join-us-on-the-night-our-raffle-scaled-e1719225702664.jpg
END:VEVENT
BEGIN:VEVENT
DTSTART;TZID=Europe/Dublin:20240708T143000
DTEND;TZID=Europe/Dublin:20240708T163000
DTSTAMP:20260425T163310
CREATED:20240704T103302Z
LAST-MODIFIED:20240704T103302Z
UID:4424-1720449000-1720456200@www.hopesupportcentre.ie
SUMMARY:Creative Writing Programme (Week 5)
DESCRIPTION:A taster introductory session is offered on Wednesday 12th June 2024 from 11am- 12pm. The course\, for those who then decide to take part\, will run thereafter on Monday afternoons from Monday 17th June from 2.30 to 4.30pm until the 29th July inclusive.
URL:https://www.hopesupportcentre.ie/event/creative-writing-programme-week-5/
CATEGORIES:Services Events
ATTACH;FMTTYPE=image/png:https://www.hopesupportcentre.ie/wp-content/uploads/2024/05/Creative-Writing-2024-e1716800599319.png
END:VEVENT
BEGIN:VEVENT
DTSTART;TZID=Europe/Dublin:20240709T110000
DTEND;TZID=Europe/Dublin:20240709T130000
DTSTAMP:20260425T163310
CREATED:20240704T103453Z
LAST-MODIFIED:20240704T103453Z
UID:4426-1720522800-1720530000@www.hopesupportcentre.ie
SUMMARY:Art & Drawing Programme (Week 6)
DESCRIPTION:Art & Drawing Programme \n  \nStarting the Tuesday 4th June for 8 Weeks \n11am – 1pm \n  \nSee Poster for Information. \nTo register please contact reception on 053-9238555 or Email us on info@hopesupportcentre.ie
URL:https://www.hopesupportcentre.ie/event/art-drawing-programme-week-6-4/
CATEGORIES:Services Events
ATTACH;FMTTYPE=image/png:https://www.hopesupportcentre.ie/wp-content/uploads/2024/05/Art-Groups-e1716799566685.png
END:VEVENT
BEGIN:VEVENT
DTSTART;TZID=Europe/Dublin:20240709T150000
DTEND;TZID=Europe/Dublin:20240709T170000
DTSTAMP:20260425T163310
CREATED:20240704T103843Z
LAST-MODIFIED:20240704T103843Z
UID:4428-1720537200-1720544400@www.hopesupportcentre.ie
SUMMARY:Multiple Myeloma Support Group Summer Afternoon Tea
DESCRIPTION:Held on the first Friday \nof Every Month \n10.30am -12pm \n  \nThe Multiple Myeloma Support Group Meetings gives you the opportunity to meet other people who are living with Multiple Myeloma and to share information over a cuppa in a supportive environment. \n  \nFor more information or to Register for the programme please phone the Centre on 0539238555 or email us on info@hopesupportcentre.ie
URL:https://www.hopesupportcentre.ie/event/multiple-myeloma-support-group-summer-afternoon-tea/
CATEGORIES:Services Events
ATTACH;FMTTYPE=image/png:https://www.hopesupportcentre.ie/wp-content/uploads/2023/08/Wexford-Multiple-Myeloma-Support-Group-Meetings-A3-Document-e1693478699221.png
END:VEVENT
BEGIN:VEVENT
DTSTART;TZID=Europe/Dublin:20240715T143000
DTEND;TZID=Europe/Dublin:20240715T163000
DTSTAMP:20260425T163310
CREATED:20240704T104023Z
LAST-MODIFIED:20240704T104023Z
UID:4430-1721053800-1721061000@www.hopesupportcentre.ie
SUMMARY:Creative Writing Programme (Week 6)
DESCRIPTION:A taster introductory session is offered on Wednesday 12th June 2024 from 11am- 12pm. The course\, for those who then decide to take part\, will run thereafter on Monday afternoons from Monday 17th June from 2.30 to 4.30pm until the 29th July inclusive.
URL:https://www.hopesupportcentre.ie/event/creative-writing-programme-week-6/
CATEGORIES:Services Events
ATTACH;FMTTYPE=image/png:https://www.hopesupportcentre.ie/wp-content/uploads/2024/05/Creative-Writing-2024-e1716800599319.png
END:VEVENT
BEGIN:VEVENT
DTSTART;TZID=Europe/Dublin:20240716T110000
DTEND;TZID=Europe/Dublin:20240716T130000
DTSTAMP:20260425T163310
CREATED:20240704T104342Z
LAST-MODIFIED:20240704T104342Z
UID:4432-1721127600-1721134800@www.hopesupportcentre.ie
SUMMARY:Art & Drawing Programme (Week 7)
DESCRIPTION:Art & Drawing Programme \n  \nStarting the Tuesday 4th June for 8 Weeks \n11am – 1pm \n  \nSee Poster for Information. \nTo register please contact reception on 053-9238555 or Email us on info@hopesupportcentre.ie
URL:https://www.hopesupportcentre.ie/event/art-drawing-programme-week-7-2/
CATEGORIES:Services Events
ATTACH;FMTTYPE=image/png:https://www.hopesupportcentre.ie/wp-content/uploads/2024/05/Art-Groups-e1716799566685.png
END:VEVENT
BEGIN:VEVENT
DTSTART;TZID=Europe/Dublin:20240717T110000
DTEND;TZID=Europe/Dublin:20240717T130000
DTSTAMP:20260425T163310
CREATED:20240704T104612Z
LAST-MODIFIED:20240704T104612Z
UID:4434-1721214000-1721221200@www.hopesupportcentre.ie
SUMMARY:Men's Peer Support Group
DESCRIPTION:Men’s Peer Support Coffee Morning \n  \nIf you would like to learn more please contact reception on 053-9238555 or Email us on info@hopesupportcentre.ie
URL:https://www.hopesupportcentre.ie/event/mens-peer-support-group-4/
CATEGORIES:Services Events
ATTACH;FMTTYPE=image/png:https://www.hopesupportcentre.ie/wp-content/uploads/2023/08/Mens-peer-Coffee-Morning-e1693478499292.png
END:VEVENT
BEGIN:VEVENT
DTSTART;TZID=Europe/Dublin:20240719T110000
DTEND;TZID=Europe/Dublin:20240719T130000
DTSTAMP:20260425T163310
CREATED:20240704T105904Z
LAST-MODIFIED:20240704T105904Z
UID:4436-1721386800-1721394000@www.hopesupportcentre.ie
SUMMARY:Summer Wellness Nutritional Talk
DESCRIPTION:Summer Wellness Nutritional Talk \, Given by Jemma Kehoe ( Nutritional Therapist ) \n  \nTo find out more information please contact reception on 053-9238555 or Email us on info@hopesupportcentre.ie
URL:https://www.hopesupportcentre.ie/event/summer-wellness-nutritional-talk/
CATEGORIES:Services Events
ATTACH;FMTTYPE=image/png:https://www.hopesupportcentre.ie/wp-content/uploads/2024/07/Art-Drawing-Programme-e1720090705610.png
END:VEVENT
BEGIN:VEVENT
DTSTART;TZID=Europe/Dublin:20240722T143000
DTEND;TZID=Europe/Dublin:20240722T163000
DTSTAMP:20260425T163310
CREATED:20240704T110118Z
LAST-MODIFIED:20240704T110118Z
UID:4439-1721658600-1721665800@www.hopesupportcentre.ie
SUMMARY:Creative Writing Programme (Week 7)
DESCRIPTION:A taster introductory session is offered on Wednesday 12th June 2024 from 11am- 12pm. The course\, for those who then decide to take part\, will run thereafter on Monday afternoons from Monday 17th June from 2.30 to 4.30pm until the 29th July inclusive.
URL:https://www.hopesupportcentre.ie/event/creative-writing-programme-week-7/
CATEGORIES:Services Events
ATTACH;FMTTYPE=image/png:https://www.hopesupportcentre.ie/wp-content/uploads/2024/05/Creative-Writing-2024-e1716800599319.png
END:VEVENT
BEGIN:VEVENT
DTSTART;TZID=Europe/Dublin:20240723T110000
DTEND;TZID=Europe/Dublin:20240723T130000
DTSTAMP:20260425T163310
CREATED:20240704T110343Z
LAST-MODIFIED:20240704T110343Z
UID:4441-1721732400-1721739600@www.hopesupportcentre.ie
SUMMARY:Art & Drawing Programme (Week 8)
DESCRIPTION:Art & Drawing Programme \n  \nStarting the Tuesday 4th June for 8 Weeks \n11am – 1pm \n  \nSee Poster for Information. \nTo register please contact reception on 053-9238555 or Email us on info@hopesupportcentre.ie
URL:https://www.hopesupportcentre.ie/event/art-drawing-programme-week-8-2/
CATEGORIES:Services Events
ATTACH;FMTTYPE=image/png:https://www.hopesupportcentre.ie/wp-content/uploads/2024/05/Art-Groups-e1716799566685.png
END:VEVENT
BEGIN:VEVENT
DTSTART;TZID=Europe/Dublin:20240723T123000
DTEND;TZID=Europe/Dublin:20240723T140000
DTSTAMP:20260425T163310
CREATED:20240704T110629Z
LAST-MODIFIED:20240704T110629Z
UID:4443-1721737800-1721743200@www.hopesupportcentre.ie
SUMMARY:Breast Cancer Support Group Picnic Lunch
DESCRIPTION:Our Breast Cancer Support Group is a group which offers clients the opportunity to meet others affected by a Breast Cancer diagnosis. \n  \nIt allows an opportunity to share experiences whilst gaining new information from the meetings\, occasional guest speakers and each other\, alongside the support of being part of a group. \n  \nIf you are interested in joining\, or would like further information\, please either register at Reception\, or phone us on 0539238555 or email us at info@hopesupportcentre.ie
URL:https://www.hopesupportcentre.ie/event/breast-cancer-support-group-picnic-lunch/
CATEGORIES:Services Events
ATTACH;FMTTYPE=image/png:https://www.hopesupportcentre.ie/wp-content/uploads/2024/02/6-e1707230369145.png
END:VEVENT
BEGIN:VEVENT
DTSTART;TZID=Europe/Dublin:20240729T143000
DTEND;TZID=Europe/Dublin:20240729T163000
DTSTAMP:20260425T163310
CREATED:20240704T110758Z
LAST-MODIFIED:20240704T110758Z
UID:4445-1722263400-1722270600@www.hopesupportcentre.ie
SUMMARY:Creative Writing Programme (Week 8)
DESCRIPTION:A taster introductory session is offered on Wednesday 12th June 2024 from 11am- 12pm. The course\, for those who then decide to take part\, will run thereafter on Monday afternoons from Monday 17th June from 2.30 to 4.30pm until the 29th July inclusive.
URL:https://www.hopesupportcentre.ie/event/creative-writing-programme-week-8/
CATEGORIES:Services Events
ATTACH;FMTTYPE=image/png:https://www.hopesupportcentre.ie/wp-content/uploads/2024/05/Creative-Writing-2024-e1716800599319.png
END:VEVENT
END:VCALENDAR